BEGIN:VCALENDAR
VERSION:2.0
PRODID:-//Zaw - ECPv6.9.0//NONSGML v1.0//EN
CALSCALE:GREGORIAN
METHOD:PUBLISH
X-ORIGINAL-URL:https://zaw-nantes.com
X-WR-CALDESC:Évènements pour Zaw
REFRESH-INTERVAL;VALUE=DURATION:PT1H
X-Robots-Tag:noindex
X-PUBLISHED-TTL:PT1H
BEGIN:VTIMEZONE
TZID:Europe/Paris
BEGIN:DAYLIGHT
TZOFFSETFROM:+0100
TZOFFSETTO:+0200
TZNAME:CEST
DTSTART:20260329T010000
END:DAYLIGHT
BEGIN:STANDARD
TZOFFSETFROM:+0200
TZOFFSETTO:+0100
TZNAME:CET
DTSTART:20261025T010000
END:STANDARD
END:VTIMEZONE
BEGIN:VEVENT
DTSTART;TZID=Europe/Paris:20260411T190000
DTEND;TZID=Europe/Paris:20260412T020000
DTSTAMP:20260422T233144
CREATED:20260320T102349Z
LAST-MODIFIED:20260320T102349Z
UID:10000143-1775934000-1775959200@zaw-nantes.com
SUMMARY:Escales Sonores 003
DESCRIPTION:Escales Sonores #3 🌍 – ZAW Nantes \nAprès deux premières éditions réussies\, Transitions Sonores et le collectif Bewonder reviennent avec une 3e Escale Sonore\, aux côtés du collectif parisien Providence. \nLine-up : \nEn’Noha (Organic Downtempo) — 19h → 20h30 \nLe Brood (Micro House) — 20h30 → 22h15 \nSuenomada (House Prog) — 22h15 → 00h00 \nSaint Esprit (Psytechno) — 00h00 → 01h45 \nInfos pratiques : \n📍 ZAW – Gare de Nantes \n🕖 19h00 → 01h45 \n🎟️ PAF : 6€ \nConcept : Escales Sonores propose des voyages musicaux au cœur de la Gare de Nantes\, en invitant des artistes venus de toute la France dans un lieu hybride entre bar\, restaurant et espace festif. \nValeurs : Un espace bienveillant\, inclusif et respectueux. \nAucun comportement discriminant ou oppressant n’est toléré. \nLien vers Shotgun : Escales Sonores 003\, Nantes · Billets Shotgun
URL:https://zaw-nantes.com/evenement/escales-sonores-003/
CATEGORIES:DJ set,Soirée dansante
ATTACH;FMTTYPE=image/png:https://zaw-nantes.com/wp-content/uploads/2026/03/Capture-decran-2026-03-20-112246-e1774002218179.png
END:VEVENT
END:VCALENDAR