BEGIN:VCALENDAR
VERSION:2.0
PRODID:-//Zaw - ECPv6.9.0//NONSGML v1.0//EN
CALSCALE:GREGORIAN
METHOD:PUBLISH
X-WR-CALNAME:Zaw
X-ORIGINAL-URL:https://zaw-nantes.com
X-WR-CALDESC:Évènements pour Zaw
REFRESH-INTERVAL;VALUE=DURATION:PT1H
X-Robots-Tag:noindex
X-PUBLISHED-TTL:PT1H
BEGIN:VTIMEZONE
TZID:Europe/Paris
BEGIN:DAYLIGHT
TZOFFSETFROM:+0100
TZOFFSETTO:+0200
TZNAME:CEST
DTSTART:20260329T010000
END:DAYLIGHT
BEGIN:STANDARD
TZOFFSETFROM:+0200
TZOFFSETTO:+0100
TZNAME:CET
DTSTART:20261025T010000
END:STANDARD
END:VTIMEZONE
BEGIN:VEVENT
DTSTART;TZID=Europe/Paris:20260307T190000
DTEND;TZID=Europe/Paris:20260308T020000
DTSTAMP:20260423T011315
CREATED:20260220T121627Z
LAST-MODIFIED:20260220T121725Z
UID:10000132-1772910000-1772935200@zaw-nantes.com
SUMMARY:Escales Sonores 002
DESCRIPTION:❄️ Après la première édition au ZAW en Janvier dernier\, l’équipe de Transitions Sonores et du collectif Bewonder reviennent en cette période hivernale avec la 2e édition de leur nouveau concept : Escales Sonores \n🌍 Le principe est simple : vous proposer des voyages festifs au cœur de la Gare de Nantes\, plus précisément au ZAW\, nouveau lieu hybride entre bar\, restaurant et espace de fête \n🚉✨ Qui dit gare\, dit voyages … Nous inviterons ainsi des artistes venus des quatre coins de l’hexagone pour partager leurs univers musicaux et faire voyager les esprits 🎶 \n🧳 Pour cette deuxième édition\, nous faisons venir un peu de soleil dans la grisaille Nantaise\, avec la venue de nos amis Marseillais du groupe Mosaique pour une live Machine avec une house Progressive\, Solaire et Groovy ! \n🎶 Line-up invités : \n🧪 Mosaique Live 22h15 → 00h00 — Live Machine \nMosaique un trio live originaire de Marseille qui mêle house groovy\, techno hybride et rythmes progressifs avec des racines profondes dans la culture club\, le jazz et hip hop. Construits sur des structures solides et des superpositions spontanées\, nos lives évoluent d’une énergie brute et percussive vers des moments plus progressifs\, trancy et atmosphériques. Underground dans l’âme\, on aime créer des voyages immersifs où l’ambiance\, le public et le son entrent tous en résonance. \nLink : https://soundcloud.com/mosaiquelive https://www.instagram.com/mosaique_live/ \n🎛️ Pour accompagner nos invités\, deux membres du collectif Bewonder seront également présents : \n🌊 Pink Empire 20h30 → 22h15 — Minimal House \nDJ portugaise basée à Nantes\, elle mixe des sets éclectiques alliant groove\, acid\, psy et musiques du monde. Passionnée par les basses bouncy\, elle crée des voyages sonores entre 120 et 160 bpm\, portés par des messages engagés. Sur scène\, son énergie débordante et son sourire contagieux font vibrer le public. \nSC : https://soundcloud.com/dj-pink-empire \n🌌 Nutskey 00h00 → 01h45 — Technodelic \nExplorateur sonore infatigable\, Nutskey fusionne les perles sensitives du jazz et l’énergie de la psytrance. Créateur des Transitions Sonores et Co-fondateur du collectif BEWONDER\, il crée des sets captivants\, repoussant les frontières des genres. Passionné et engagé\, il voit la musique comme un exutoire fascinant. \nSC : https://soundcloud.com/nutskey \n🧳 Warmup 19h → 20h30 — Downtempo \n📍 ZAW – Café Restaurant\, Gare de Nantes \n🕖 19h00 → 01h45 \n🎟️ PAF : 5 € + Frais shotgun \n🎫 Préventes Shotgun : https://shotgun.live/en/events/escales-sonores \nTransitions Sonores est un événement gratuit organisé sur l’esplanade de la Terrasse des Vents à Nantes durant la période estivale (Juillet et août) \n🌞 Ils proposent une rencontre entre musiques progressives et cuisine responsable\, à travers des DJ sets et des performances artistiques variées 🎶🍽️ \nPorté par APALA et le collectif Bewonder\, le projet a pour ambition de créer un espace social\, culturel et culinaire favorisant les échanges et l’inclusion\, notamment pour lutter contre l’isolement des jeunes \n🤝 Transitions Sonores défends ainsi une vision où plaisir\, engagement et convivialité se rencontrent naturellement 💜 💜 \nNos événements sont des espaces de fête libres\, fondés sur la bienveillance\, le respect et l’ouverture d’esprit. \n🚫 Drague insistante\, agressivité\, racisme\, homophobie\, transphobie et toute forme de discrimination n’ont aucune place ici. \nℹ️ En cas de comportement abusif\, merci de prévenir un membre du staff\, au bar ou à la billetterie.
URL:https://zaw-nantes.com/evenement/escales-sonores-002/
CATEGORIES:DJ set,Soirée dansante
ATTACH;FMTTYPE=image/png:https://zaw-nantes.com/wp-content/uploads/2026/02/Capture-decran-2026-02-20-131520-e1771589777939.png
END:VEVENT
END:VCALENDAR