BEGIN:VCALENDAR
VERSION:2.0
PRODID:-//Zaw - ECPv6.9.0//NONSGML v1.0//EN
CALSCALE:GREGORIAN
METHOD:PUBLISH
X-WR-CALNAME:Zaw
X-ORIGINAL-URL:https://zaw-nantes.com
X-WR-CALDESC:Évènements pour Zaw
REFRESH-INTERVAL;VALUE=DURATION:PT1H
X-Robots-Tag:noindex
X-PUBLISHED-TTL:PT1H
BEGIN:VTIMEZONE
TZID:Europe/Paris
BEGIN:DAYLIGHT
TZOFFSETFROM:+0100
TZOFFSETTO:+0200
TZNAME:CEST
DTSTART:20250330T010000
END:DAYLIGHT
BEGIN:STANDARD
TZOFFSETFROM:+0200
TZOFFSETTO:+0100
TZNAME:CET
DTSTART:20251026T010000
END:STANDARD
END:VTIMEZONE
BEGIN:VEVENT
DTSTART;TZID=Europe/Paris:20251213T190000
DTEND;TZID=Europe/Paris:20251214T013000
DTSTAMP:20260423T061059
CREATED:20251030T161230Z
LAST-MODIFIED:20251203T170627Z
UID:10000116-1765652400-1765675800@zaw-nantes.com
SUMMARY:Soirée Bachata : cours de danse + soirée avec Academia Fuego Latino
DESCRIPTION:Entrée libre
URL:https://zaw-nantes.com/evenement/soiree-batchata-cours-de-danse-soiree-avec-academia-fuego-latino/
CATEGORIES:Soirée dansante
ATTACH;FMTTYPE=image/jpeg:https://zaw-nantes.com/wp-content/uploads/2025/10/1b9a6af7-1a5b-4c13-b754-271967a376d8-e1764781290218.jpg
END:VEVENT
END:VCALENDAR