BEGIN:VCALENDAR
VERSION:2.0
PRODID:-//Zaw - ECPv6.9.0//NONSGML v1.0//EN
CALSCALE:GREGORIAN
METHOD:PUBLISH
X-ORIGINAL-URL:https://zaw-nantes.com
X-WR-CALDESC:Évènements pour Zaw
REFRESH-INTERVAL;VALUE=DURATION:PT1H
X-Robots-Tag:noindex
X-PUBLISHED-TTL:PT1H
BEGIN:VTIMEZONE
TZID:Europe/Paris
BEGIN:DAYLIGHT
TZOFFSETFROM:+0100
TZOFFSETTO:+0200
TZNAME:CEST
DTSTART:20250330T010000
END:DAYLIGHT
BEGIN:STANDARD
TZOFFSETFROM:+0200
TZOFFSETTO:+0100
TZNAME:CET
DTSTART:20251026T010000
END:STANDARD
END:VTIMEZONE
BEGIN:VEVENT
DTSTART;TZID=Europe/Paris:20250913T190000
DTEND;TZID=Europe/Paris:20250913T190000
DTSTAMP:20260423T105312
CREATED:20250820T075825Z
LAST-MODIFIED:20250820T093547Z
UID:10000107-1757790000-1757790000@zaw-nantes.com
SUMMARY:Soirée danse : Bal forró
DESCRIPTION:Soirée danse : Bal Forró avec l’association Nantaise Brasil No Pé ! \n\n19h-20h : 1h d’initiation niveau débutant ouverte à tous réalisée par le professeur de Forró\, Kennuy\, Brésilien de Salvador de Bahia\n20h-23h : Bal forró animé par Kennuy\n\nEntrée libre
URL:https://zaw-nantes.com/evenement/soiree-danse-bal-forro-2/
CATEGORIES:Soirée dansante
ATTACH;FMTTYPE=image/png:https://zaw-nantes.com/wp-content/uploads/2025/03/bal-forro.png
END:VEVENT
END:VCALENDAR