BEGIN:VCALENDAR
VERSION:2.0
PRODID:-//Zaw - ECPv6.9.0//NONSGML v1.0//EN
CALSCALE:GREGORIAN
METHOD:PUBLISH
X-WR-CALNAME:Zaw
X-ORIGINAL-URL:https://zaw-nantes.com
X-WR-CALDESC:Évènements pour Zaw
REFRESH-INTERVAL;VALUE=DURATION:PT1H
X-Robots-Tag:noindex
X-PUBLISHED-TTL:PT1H
BEGIN:VTIMEZONE
TZID:Europe/Paris
BEGIN:DAYLIGHT
TZOFFSETFROM:+0100
TZOFFSETTO:+0200
TZNAME:CEST
DTSTART:20260329T010000
END:DAYLIGHT
BEGIN:STANDARD
TZOFFSETFROM:+0200
TZOFFSETTO:+0100
TZNAME:CET
DTSTART:20261025T010000
END:STANDARD
END:VTIMEZONE
BEGIN:VEVENT
DTSTART;TZID=Europe/Paris:20260307T190000
DTEND;TZID=Europe/Paris:20260308T020000
DTSTAMP:20260422T232656
CREATED:20260220T121627Z
LAST-MODIFIED:20260220T121725Z
UID:10000132-1772910000-1772935200@zaw-nantes.com
SUMMARY:Escales Sonores 002
DESCRIPTION:❄️ Après la première édition au ZAW en Janvier dernier\, l’équipe de Transitions Sonores et du collectif Bewonder reviennent en cette période hivernale avec la 2e édition de leur nouveau concept : Escales Sonores \n🌍 Le principe est simple : vous proposer des voyages festifs au cœur de la Gare de Nantes\, plus précisément au ZAW\, nouveau lieu hybride entre bar\, restaurant et espace de fête \n🚉✨ Qui dit gare\, dit voyages … Nous inviterons ainsi des artistes venus des quatre coins de l’hexagone pour partager leurs univers musicaux et faire voyager les esprits 🎶 \n🧳 Pour cette deuxième édition\, nous faisons venir un peu de soleil dans la grisaille Nantaise\, avec la venue de nos amis Marseillais du groupe Mosaique pour une live Machine avec une house Progressive\, Solaire et Groovy ! \n🎶 Line-up invités : \n🧪 Mosaique Live 22h15 → 00h00 — Live Machine \nMosaique un trio live originaire de Marseille qui mêle house groovy\, techno hybride et rythmes progressifs avec des racines profondes dans la culture club\, le jazz et hip hop. Construits sur des structures solides et des superpositions spontanées\, nos lives évoluent d’une énergie brute et percussive vers des moments plus progressifs\, trancy et atmosphériques. Underground dans l’âme\, on aime créer des voyages immersifs où l’ambiance\, le public et le son entrent tous en résonance. \nLink : https://soundcloud.com/mosaiquelive https://www.instagram.com/mosaique_live/ \n🎛️ Pour accompagner nos invités\, deux membres du collectif Bewonder seront également présents : \n🌊 Pink Empire 20h30 → 22h15 — Minimal House \nDJ portugaise basée à Nantes\, elle mixe des sets éclectiques alliant groove\, acid\, psy et musiques du monde. Passionnée par les basses bouncy\, elle crée des voyages sonores entre 120 et 160 bpm\, portés par des messages engagés. Sur scène\, son énergie débordante et son sourire contagieux font vibrer le public. \nSC : https://soundcloud.com/dj-pink-empire \n🌌 Nutskey 00h00 → 01h45 — Technodelic \nExplorateur sonore infatigable\, Nutskey fusionne les perles sensitives du jazz et l’énergie de la psytrance. Créateur des Transitions Sonores et Co-fondateur du collectif BEWONDER\, il crée des sets captivants\, repoussant les frontières des genres. Passionné et engagé\, il voit la musique comme un exutoire fascinant. \nSC : https://soundcloud.com/nutskey \n🧳 Warmup 19h → 20h30 — Downtempo \n📍 ZAW – Café Restaurant\, Gare de Nantes \n🕖 19h00 → 01h45 \n🎟️ PAF : 5 € + Frais shotgun \n🎫 Préventes Shotgun : https://shotgun.live/en/events/escales-sonores \nTransitions Sonores est un événement gratuit organisé sur l’esplanade de la Terrasse des Vents à Nantes durant la période estivale (Juillet et août) \n🌞 Ils proposent une rencontre entre musiques progressives et cuisine responsable\, à travers des DJ sets et des performances artistiques variées 🎶🍽️ \nPorté par APALA et le collectif Bewonder\, le projet a pour ambition de créer un espace social\, culturel et culinaire favorisant les échanges et l’inclusion\, notamment pour lutter contre l’isolement des jeunes \n🤝 Transitions Sonores défends ainsi une vision où plaisir\, engagement et convivialité se rencontrent naturellement 💜 💜 \nNos événements sont des espaces de fête libres\, fondés sur la bienveillance\, le respect et l’ouverture d’esprit. \n🚫 Drague insistante\, agressivité\, racisme\, homophobie\, transphobie et toute forme de discrimination n’ont aucune place ici. \nℹ️ En cas de comportement abusif\, merci de prévenir un membre du staff\, au bar ou à la billetterie.
URL:https://zaw-nantes.com/evenement/escales-sonores-002/
CATEGORIES:DJ set,Soirée dansante
ATTACH;FMTTYPE=image/png:https://zaw-nantes.com/wp-content/uploads/2026/02/Capture-decran-2026-02-20-131520-e1771589777939.png
END:VEVENT
BEGIN:VEVENT
DTSTART;TZID=Europe/Paris:20260314T200000
DTEND;TZID=Europe/Paris:20260315T020000
DTSTAMP:20260422T232656
CREATED:20260220T123845Z
LAST-MODIFIED:20260220T123951Z
UID:10000135-1773518400-1773540000@zaw-nantes.com
SUMMARY:La Bringue Girls Only - Y2k Classics
DESCRIPTION:Redécouvres tous les hits des 10 dernières années et profites d’une soirée 100% girls ! \n💃 Une ambiance girl only\, une nuit de folie\, de danse et de sororité. \n🔥 DJ Set exclusivement féminin avec un mix de sons des années 2000 et 2010 : \nHIP-HOP • POP • R&B • REGGAETON \n> Feaith \n> Sinna \n👗DRESS CODE Y2K ! C’est le moment de ressortir ta tenue la plus swag ! Talons\, basket\, mini-jupes ou pantalons cargo… À La Bringue on n’a pas de dress code imposé\, vous êtes toutes les bienvenues ! Un seul mot d’ordre : se sentir au maxxxxx. \n🌟 Des stands pour te mettre au max pendant la soirée ! \n🍕De quoi te restaurer pendant la soirée \n🧥 Vestiaire sur place \n📸 Une photographe sera présente pour immortaliser cette soirée incroyable \n💛 Si tu viens seule\, à ton arrivée on te mettra un bracelet jaune. Ce bracelet\, c’est notre signe de solidarité pour toutes les filles qui veulent danser\, s’amuser\, et créer des souvenirs mais qui débarquent seules à la Bringue. Rien de plus facile pour vous connecter et vous intégrer en un claquement de doigts. \nPourquoi une soirée GIRLS ONLY ? ✨ \nLa Bringue a choisi de créer des soirées 100% femmes pour offrir un espace où la sororité est à l’honneur\, où toutes les Bringueuses peuvent se sentir acceptées et célébrées. Nous mettons tout en œuvre pour créer un environnement sécurisé dans lequel vous pourrez profiter pleinement de votre soirée sans préoccupation. Merci de faire partie de notre communauté exceptionnelle ! \nRetrouve toutes les actualités de La Bringue sur Instagram : @bringue_party
URL:https://zaw-nantes.com/evenement/la-bringue-girls-only-y2k-classics/
CATEGORIES:DJ set,Soirée dansante
ATTACH;FMTTYPE=image/png:https://zaw-nantes.com/wp-content/uploads/2026/02/Capture-decran-2026-02-20-133909-e1771591185879.png
END:VEVENT
BEGIN:VEVENT
DTSTART;TZID=Europe/Paris:20260321T190000
DTEND;TZID=Europe/Paris:20260322T020000
DTSTAMP:20260422T232656
CREATED:20260220T124520Z
LAST-MODIFIED:20260220T124520Z
UID:10000136-1774119600-1774144800@zaw-nantes.com
SUMMARY:Kabylie Minogue - Big City
DESCRIPTION:Zaw invite Kabylie Minogue — Accurate by Big City \nAu cœur de Nantes\, Zaw est un lieu hybride où les énergies se croisent : espace chill\, restauration vivante et club incandescent à la nuit tombée. Un terrain de jeu libre et vibrant\, pensé pour celles et ceux qui veulent autant se retrouver autour d’un verre que se perdre sur le dancefloor. \nPour cette édition Accurate by Big City\, Zaw accueille Kabylie Minogue. \nRévélés au grand public après une Boiler Room enflammée au Le Bikini\, le duo s’est imposé comme l’un des projets les plus excitants de la scène électronique actuelle. On les a vus embraser les Nuits Sonores\, le Cabaret Sauvage\, Pete The Monkey\, l’Institut du Monde Arabe ou encore le Grand Palais. \nLeur musique est un tissage incandescent entre rythmes orientaux et trance 90’s. Distillée\, épurée\, parfois frontale\, elle frappe comme un manifeste. Une invitation à la danse qui dépasse le simple clubbing : un acte fondateur\, militant\, furieusement novateur et résolument fédérateur. \nAccurate by Big City\, c’est la rencontre entre une direction artistique pointue et l’ADN singulier de Zaw : un espace libre\, hybride\, au centre de la ville\, où la nuit devient terrain d’expression. \nPrépare-toi à vibrer !
URL:https://zaw-nantes.com/evenement/kabylie-minogue-big-city/
CATEGORIES:DJ set,Soirée dansante
ATTACH;FMTTYPE=image/png:https://zaw-nantes.com/wp-content/uploads/2026/02/Capture-decran-2026-02-18-120112-e1771591489155.png
END:VEVENT
END:VCALENDAR