BEGIN:VCALENDAR
VERSION:2.0
PRODID:-//Zaw - ECPv6.9.0//NONSGML v1.0//EN
CALSCALE:GREGORIAN
METHOD:PUBLISH
X-ORIGINAL-URL:https://zaw-nantes.com
X-WR-CALDESC:Évènements pour Zaw
REFRESH-INTERVAL;VALUE=DURATION:PT1H
X-Robots-Tag:noindex
X-PUBLISHED-TTL:PT1H
BEGIN:VTIMEZONE
TZID:Europe/Paris
BEGIN:DAYLIGHT
TZOFFSETFROM:+0100
TZOFFSETTO:+0200
TZNAME:CEST
DTSTART:20260329T010000
END:DAYLIGHT
BEGIN:STANDARD
TZOFFSETFROM:+0200
TZOFFSETTO:+0100
TZNAME:CET
DTSTART:20261025T010000
END:STANDARD
END:VTIMEZONE
BEGIN:VEVENT
DTSTART;TZID=Europe/Paris:20260131T180000
DTEND;TZID=Europe/Paris:20260201T020000
DTSTAMP:20260423T011837
CREATED:20260109T151628Z
LAST-MODIFIED:20260109T152234Z
UID:10000126-1769882400-1769911200@zaw-nantes.com
SUMMARY:Daisylusion Invite Collectif 360°
DESCRIPTION:Le 31 janvier\, c’est dans un tout nouveau lieu de la vie nantaise que nous vous présenterons la première teuf de la collab Daisylusion et 360°. \nPour l’occasion\, deux des fidèles camarades des crews Boreal et Distantwaters seront présents! \n  \nSitué en plein cœur de la gare de Nantes\, surplombant la ville\, ZAW ouvre désormais ses portes jusqu’à 2h pour un tout nouveau format club. \n  \nOn vous y attend nombreux pour faire vibrer ce nouveau spot avec un line-up affûté qui promet une soirée mémorable. \n  \nJPEG (Distant Waters) \nSam b2b Calixe (Daisylusion) \nMatso (Boréal) \nLUZ b2b Johan (360°) \n  \n🖌️ Lucfl8 & Johanonfilm \n📍27 Bd de Stalingrad\, 44000 Nantes \n🕠 18H – 2H \n  \nBilletterie : Daisylusion Invite Collectif 360°\, Nantes · Billets Shotgun
URL:https://zaw-nantes.com/evenement/daisylusion-invite-collectif-360/
CATEGORIES:Soirée dansante
ATTACH;FMTTYPE=image/png:https://zaw-nantes.com/wp-content/uploads/2026/01/Capture-decran-2026-01-09-161250-e1767971734877.png
END:VEVENT
BEGIN:VEVENT
DTSTART;TZID=Europe/Paris:20260207T190000
DTEND;TZID=Europe/Paris:20260208T020000
DTSTAMP:20260423T011837
CREATED:20260129T115603Z
LAST-MODIFIED:20260129T121633Z
UID:10000127-1770490800-1770516000@zaw-nantes.com
SUMMARY:Bruderschaft x Asterria — BOUNDLESS
DESCRIPTION:🌿 BRUDERSCHAFT x ASTERRIA — BOUNDLESS \n  \n🌌 Les collectifs Bruderschaft et Asterria fusionnent leurs univers le samedi 07 février pour une immersion totale au ZAW. \nDès 19h00\, nous explorons les profondeurs de la Deep House et de la Minimale à travers une programmation millimétrée. \nPour marquer cette rencontre\, nous recevons deux invités de marque : Killian (Boreal) et Alex (Voiceless) pour un format étendu de 3 heures en clôture de soirée. \nCe haut lieu nantais se transforme\, le temps d’une nuit\, en un sanctuaire sonore. \n  \n🔊 PROGRAMMATION (TIMETABLE) \n  \n19:00 — 21:00 : Leptik B2B Paquerette \n21:00 — 23:00 : Rodolph D B2B Yoann Barett \n23:00 — 02:00 : Killian B2B Alex (3H EXTENDED SET) \n  \nL’exploration commence à l’ouverture. Soyez là dès les premières notes.
URL:https://zaw-nantes.com/evenement/bruderschaft-x-asterria-boundless/
CATEGORIES:DJ set,Soirée dansante
ATTACH;FMTTYPE=image/jpeg:https://zaw-nantes.com/wp-content/uploads/2026/01/Capture-decran_29-1-2026_12526_shotgun.live_-e1769687742461.jpeg
END:VEVENT
BEGIN:VEVENT
DTSTART;TZID=Europe/Paris:20260213T193000
DTEND;TZID=Europe/Paris:20260214T013000
DTSTAMP:20260423T011837
CREATED:20260129T120255Z
LAST-MODIFIED:20260130T150627Z
UID:10000128-1771011000-1771032600@zaw-nantes.com
SUMMARY:Les Nuits de Marrakech
DESCRIPTION:Le 13 février\, à l’occasion de la Saint-Valentin\, laissez-vous transporter dans l’univers envoûtant des Nuits de Marrakech. \nDès votre arrivée\, vous serez accueillis par une ambiance raffinée mêlant dîner inspiré des Mille et Une Nuits\, saveurs orientales et décor chaleureux. \nLa soirée se poursuivra avec un concert live\, avant de laisser place aux rythmes hypnotiques d’un DJ set soigneusement sélectionné. \nTout au long de la nuit\, les danses traditionnelles viendront sublimer l’expérience\, entre élégance\, sensualité et héritage culturel. \nUne soirée pensée pour célébrer l’amour\, le partage et l’évasion\, dans un cadre festif et prestigieux. \n  \n✨ Les Nuits de Marrakech – Spécial Saint-Valentin \n  \n19h30-22h : Repas (les préventes repas donnent accès à la soirée dans son intégralité) \n22h-1h : Soirée dansante
URL:https://zaw-nantes.com/evenement/gala-oriental-les-nuits-de-marrakech/
CATEGORIES:Soirée dansante
ATTACH;FMTTYPE=image/png:https://zaw-nantes.com/wp-content/uploads/2026/01/banniere-shotgun-marrakechv2-e1769688155892.png
END:VEVENT
BEGIN:VEVENT
DTSTART;TZID=Europe/Paris:20260214T190000
DTEND;TZID=Europe/Paris:20260215T013000
DTSTAMP:20260423T011837
CREATED:20260129T121230Z
LAST-MODIFIED:20260129T121515Z
UID:10000129-1771095600-1771119000@zaw-nantes.com
SUMMARY:St Valentin - Big City
DESCRIPTION:Zaw Saint Val’ : Diner du 14 février – Cabaret Jazz – Magicien – Performances Burlesques – Stands – DJ Set \nPour vivre une Saint-Valentin Unique… \nDans un Lieu à couper le souffle… * \nSur le toit de la Gare de Nantes… \nAvec une vue à 360° sur la ville… \nRendez-vous chez ZAW le 14 février 2026 ! \n  \n// PROGGRAMME // \n  \n✦ 19H – 23H00 \n✦ Diner Saint Valentin \n– Cabaret Jazz Manouche \n– Tsigaiska jazz – Magicien \n– Riwan Magic \n– Show Burlesque – Stands \n  \n✦ 23H – 01H30 ✦ \nLe CLUB- Carte Blanche au Disquaire du Dimanche \n– Le Disquaire du Dimanche= https://www.instagram.com/ledisquairedudimanche/ \n  \nDJ Set Karim = https://www.instagram.com/manaikarim/ \nDJ Set Chilly Jay = https://www.instagram.com/chilly.jay/ \n  \n!!! CAPACITÉ TRÈS LIMITÉE – PENSEZ À RÉSERVER !!! \n  \nFORMULE CLUB \nCe billet donne accès uniquement à la seconde partie de soirée de 23h à 1h30.
URL:https://zaw-nantes.com/evenement/st-valentin-big-city/
CATEGORIES:Soirée dansante
ATTACH;FMTTYPE=image/png:https://zaw-nantes.com/wp-content/uploads/2026/01/ST-VALENTIN-e1769688728787.png
END:VEVENT
END:VCALENDAR