BEGIN:VCALENDAR
VERSION:2.0
PRODID:-//Zaw - ECPv6.9.0//NONSGML v1.0//EN
CALSCALE:GREGORIAN
METHOD:PUBLISH
X-ORIGINAL-URL:https://zaw-nantes.com
X-WR-CALDESC:Évènements pour Zaw
REFRESH-INTERVAL;VALUE=DURATION:PT1H
X-Robots-Tag:noindex
X-PUBLISHED-TTL:PT1H
BEGIN:VTIMEZONE
TZID:Europe/Paris
BEGIN:DAYLIGHT
TZOFFSETFROM:+0100
TZOFFSETTO:+0200
TZNAME:CEST
DTSTART:20260329T010000
END:DAYLIGHT
BEGIN:STANDARD
TZOFFSETFROM:+0200
TZOFFSETTO:+0100
TZNAME:CET
DTSTART:20261025T010000
END:STANDARD
END:VTIMEZONE
BEGIN:VEVENT
DTSTART;TZID=Europe/Paris:20260101T190000
DTEND;TZID=Europe/Paris:20260101T190000
DTSTAMP:20260423T025855
CREATED:20251208T162133Z
LAST-MODIFIED:20260107T125624Z
UID:10000121-1767294000-1767294000@zaw-nantes.com
SUMMARY:Soirée du Nouvel An avec Big City Nantes
DESCRIPTION:NOUVEL AN 2026 – BIG CITY NANTES \nUne nuit flamboyante\, bouncy et totalement inoubliable !✨ \nCette année\, Big City Nantes vous embarque dans un réveillon XXL où les paillettes rencontrent les beats électrisants et où la scène se transforme en un tourbillon festif. \nPréparez-vous à vivre une nuit où chaque instant scintille\, où chaque performance vous propulse et où minuit sera seulement le début de la fête. \nSur scène\, deux icônes de la nuit prendront les commandes : Shigella et Ladorée\, maîtresses de cérémonie\, enchaîneront hosting incisif\, drag performances incandescentes et moments de pure extravagance. \nCôté musique\, la nuit s’annonce bouillante : Alpaïde\, du collectif Esprits Sauvages\, installera un univers hypnotique\, organique et fougueux pour un DJ set aux vibrations instinctives. \nEt pour couronner le tout\, le headliner Fasme prendra le contrôle des platines pour un live énergique et transcendé. Un set taillé pour faire exploser la nouvelle année sous un déluge de rythmes aciduleux et de basses généreuses. \nEntre shows drag\, performances flamboyantes et dancefloor incandescent\, Big City Nantes vous promet un Nouvel An qui claque\, qui danse et qui brille. \n🎆 2026 n’a jamais été aussi prêt à démarrer. \nBILLETTERIE 
URL:https://zaw-nantes.com/evenement/nouvel-an-2026-avec-big-city-nantes/
CATEGORIES:DJ set,Drag Show,Soirée dansante
ATTACH;FMTTYPE=image/png:https://zaw-nantes.com/wp-content/uploads/2025/12/Capture-decran-2025-12-08-171845-e1765211259489.png
END:VEVENT
BEGIN:VEVENT
DTSTART;TZID=Europe/Paris:20260110T190000
DTEND;TZID=Europe/Paris:20260111T020000
DTSTAMP:20260423T025855
CREATED:20260109T123946Z
LAST-MODIFIED:20260109T141614Z
UID:10000122-1768071600-1768096800@zaw-nantes.com
SUMMARY:La Bringue Girls Only - Afterwork
DESCRIPTION:LA BRINGUE À NANTES – AFTERWORK 🥳 \nLa Bringue est de retour à Nantes pour un afterwork girls only dans un tout nouveau spot ! Au programme : \n🎶 Dj Set 100% Girls pour te faire danser toute la soirée avec Llanamour et Sugar Tantine \n🥂 Happy Hour de 19h à 20h \n🌟 Un stand de strass dentaires et un stand de tatoo pour immortaliser la soirée \n🌭 Food pour te restaurer \n‼️ No men\, no problem : les mots d’ordre sont sororité et bienveillance ! \n👗 PAS DE DRESS CODE : Talons\, basket\, mini jupes ou pantalons cargo… peu importe\, tant que vous vous sentez au maxxxx ! \n  \n💛 Si tu viens seule\, à ton arrivée on te mettra un bracelet jaune. Ce bracelet\, c’est notre signe de solidarité pour toutes les filles qui veulent discuter\, danser\, s’amuser\, et créer des souvenirs mais qui débarquent seules à la Bringue. Rien de plus facile pour vous connecter et vous intégrer en un claquement de doigts. \nBilletterie : La Bringue À Nantes – After Work\, Nantes · Billets Shotgun
URL:https://zaw-nantes.com/evenement/la-bringue-girls-only-afterwork/
CATEGORIES:Soirée dansante
ATTACH;FMTTYPE=image/png:https://zaw-nantes.com/wp-content/uploads/2026/01/Capture-decran-2026-01-09-124205-e1767962552817.png
END:VEVENT
BEGIN:VEVENT
DTSTART;TZID=Europe/Paris:20260116T190000
DTEND;TZID=Europe/Paris:20260117T000000
DTSTAMP:20260423T025855
CREATED:20260109T125708Z
LAST-MODIFIED:20260114T110440Z
UID:10000123-1768590000-1768608000@zaw-nantes.com
SUMMARY:High On Dry - 1ère Sober Party à Nantes
DESCRIPTION:La première sober party arrive à Nantes\, une fête consciente\, coopérative\, joyeuse\, inclusive et sans aucun alcool ou substance! \nNous vous invitons à une soirée de danse\, de rencontres\, de rires\, d’ateliers et de surprises\, co-créée toustes ensemble pour célébrer la nouvelle année\, à la croisée de la danse libre / ecstatic dance et des événements comme le Burning man. \n  \nLine-up \nNoah Magic / Optimé \nOttäkam / Öz \n  \nProgramme : \n19h : Ouverture de portes \n19h30 : La grande ouverture ! \n19h30 – 21h : Ateliers & danse \n21h : Cabaret / drag show / performances \n21h30 – 00h : Ecstatic party\, jeux et d’autres surprises \n  \nC’est une soirée éthique\, collaborative et non-commerciale. Vous souhaitez y contribuer ? Écrivez-nous à : highondry@proton.me \nCet événement célèbre le consentement\, le lâcher-prise et l’écoute de soi sans alcool ni substance pouvant altérer votre jugement. Nous visons un espace inclusif et bienveillant. \nAucune discrimination ne sera tolérée. \n  \nBilletterie : High On Dry : 1ère Sober Party À Nantes\, Nantes · Shotgun Tickets
URL:https://zaw-nantes.com/evenement/high-on-dry-1ere-sober-party-a-nantes/
CATEGORIES:Soirée dansante
ATTACH;FMTTYPE=image/png:https://zaw-nantes.com/wp-content/uploads/2026/01/Capture-decran-2026-01-09-135105-e1767963367487.png
END:VEVENT
BEGIN:VEVENT
DTSTART;TZID=Europe/Paris:20260117T160000
DTEND;TZID=Europe/Paris:20260118T020000
DTSTAMP:20260423T025855
CREATED:20260109T130323Z
LAST-MODIFIED:20260109T150502Z
UID:10000124-1768665600-1768701600@zaw-nantes.com
SUMMARY:Terminus 001
DESCRIPTION:Audition Salée et 1990 machine vous donnes rendez-vous le 17 janvier au ZAW pour leur soirée terminus! \nDe 16h à 2h\, venez vibrer au rythme de la house\, la groove ou encore la trance pour des dj sets enivrant et des moments de partage inoubliables dans ce lieux atypique. \nLe ZAW nous offre un cadre fascinant pour plonger au cœur d’une expérience musicale unique et immersive en plein cœur de Nantes. \nBilletterie : Terminus 001\, Nantes · Billets Shotgun
URL:https://zaw-nantes.com/evenement/terminus-001/
CATEGORIES:Soirée dansante
ATTACH;FMTTYPE=image/png:https://zaw-nantes.com/wp-content/uploads/2026/01/Capture-decran-2026-01-09-135841-e1767963778525.png
END:VEVENT
BEGIN:VEVENT
DTSTART;TZID=Europe/Paris:20260124T190000
DTEND;TZID=Europe/Paris:20260125T020000
DTSTAMP:20260423T025855
CREATED:20260109T131314Z
LAST-MODIFIED:20260109T150957Z
UID:10000125-1769281200-1769306400@zaw-nantes.com
SUMMARY:Escales sonores
DESCRIPTION:❄️ Après les open airs estivaux et les afters au Ferrailleur\, l’équipe de Transitions Sonores et du collectif Bewonder revient en cette période hivernale avec un nouveau concept : Escales Sonores 🌍 \nLe principe est simple : vous proposer des voyages festifs au cœur de la Gare de Nantes\, plus précisément au ZAW\, nouveau lieu hybride entre bar\, restaurant et espace de fête 🚉✨ Qui dit gare\, dit escales… \nNous inviterons ainsi des artistes venus des quatre coins de l’hexagone pour partager leurs univers musicaux et faire voyager les esprits 🎶🧳 \nPour cette première édition\, nous nous associons aux amis du Festival Planète Sauvage\, festival électro inclusif et expérience participative construite ensemble 🌱 \n🎶 Line-up invités : \n🧪 Dr Fizzgig \n19h00 → 20h30 — Live Machine Vénérés par les habitants de la Planète Sauvage\, Dr Fizzgig et ses cérémonies (live set) sont un mélange d’ondes puissantes et de sonorités mystiques. https://soundcloud.com/guillaumev/space-travel \n🌿 AnaKena \n22h15 → 00h00 — Minimal House & Techno AnaKena découvre la musique électronique au début des années 2000 en usant ses semelles en soirée psytrance. Elle s’initie au mix et joue ses sets dans des soirées en France et en Europe. Aujourd’hui\, elle joue une Techno minimale groovy\, teintée d’influences psychédéliques qui saura vous faire taper du pied. Découverte lors de son incroyable set de l’édition 2023 de la Planète Sauvage\, on la surnomme alors ‘la reine du bosquet’. https://soundcloud.com/anakena \n🎛️ Pour accompagner nos invités\, deux membres du collectif Bewonder seront également présents : \n🌊 Tadhana \n20h30 → 22h15 — Micro House Tadhana est une DJ italienne issue de la scène underground romaine\, profondément marquée par la scène Minimal et Techno locale\, ainsi que par l’énergie de festivals internationaux tels que Fusion\, Boom et Ozora. Installée à Nantes\, elle est co-fondatrice du collectif BEWONDER. Ses sets sont groovy\, bouncy et hypnotiques\, construits pour guider le public dans un voyage immersif où se rencontrent rythmiques\, éléments psychédéliques et vibrations profondes. https://soundcloud.com/loredana-fabros/tadhana-festival-pic-du-son-2025-bass-house-minimal-psy-minimal-indie-dance \n🌌 Saysun \n00h00 → 01h45 — Bush Minimal Jeune DJ\, membre du collectif Bewonder\, et co-fondateur des Transitions Sonores à Nantes\, il tire principalement son inspiration de festivals comme le Boom et d’autres rassemblements Psytrance. Fasciné par la musique psychédélique en tout genre\, il cherche à créer des voyages sonores dans des styles allant de la Downtempo jusqu’à la darkpsy\, en passant surtout par la Psytech\, style qu’il affectionne particulièrement. https://soundcloud.com/saysun \n🎏 ZAW Café Restaurant – Gare de Nantes 🏗️ 🕒 19h00 – 01h45 🕚 \n💜 Nos événements sont des espaces de fête libres\, fondés sur la bienveillance\, le respect et l’ouverture d’esprit. \n🚫 Drague insistante\, agressivité\, racisme\, homophobie\, transphobie et toute forme de discrimination n’ont aucune place ici. \nℹ️ En cas de comportement abusif\, merci de prévenir un membre du staff : au bar ou à la billetterie. \n  \nBilletterie : Escales Sonores\, Nantes · Billets Shotgun
URL:https://zaw-nantes.com/evenement/escales-sonores/
CATEGORIES:DJ set,Soirée dansante
ATTACH;FMTTYPE=image/png:https://zaw-nantes.com/wp-content/uploads/2026/01/Capture-decran-2026-01-09-141147-e1767964387453.png
END:VEVENT
BEGIN:VEVENT
DTSTART;TZID=Europe/Paris:20260131T180000
DTEND;TZID=Europe/Paris:20260201T020000
DTSTAMP:20260423T025855
CREATED:20260109T151628Z
LAST-MODIFIED:20260109T152234Z
UID:10000126-1769882400-1769911200@zaw-nantes.com
SUMMARY:Daisylusion Invite Collectif 360°
DESCRIPTION:Le 31 janvier\, c’est dans un tout nouveau lieu de la vie nantaise que nous vous présenterons la première teuf de la collab Daisylusion et 360°. \nPour l’occasion\, deux des fidèles camarades des crews Boreal et Distantwaters seront présents! \n  \nSitué en plein cœur de la gare de Nantes\, surplombant la ville\, ZAW ouvre désormais ses portes jusqu’à 2h pour un tout nouveau format club. \n  \nOn vous y attend nombreux pour faire vibrer ce nouveau spot avec un line-up affûté qui promet une soirée mémorable. \n  \nJPEG (Distant Waters) \nSam b2b Calixe (Daisylusion) \nMatso (Boréal) \nLUZ b2b Johan (360°) \n  \n🖌️ Lucfl8 & Johanonfilm \n📍27 Bd de Stalingrad\, 44000 Nantes \n🕠 18H – 2H \n  \nBilletterie : Daisylusion Invite Collectif 360°\, Nantes · Billets Shotgun
URL:https://zaw-nantes.com/evenement/daisylusion-invite-collectif-360/
CATEGORIES:Soirée dansante
ATTACH;FMTTYPE=image/png:https://zaw-nantes.com/wp-content/uploads/2026/01/Capture-decran-2026-01-09-161250-e1767971734877.png
END:VEVENT
END:VCALENDAR