BEGIN:VCALENDAR
VERSION:2.0
PRODID:-//Zaw - ECPv6.9.0//NONSGML v1.0//EN
CALSCALE:GREGORIAN
METHOD:PUBLISH
X-ORIGINAL-URL:https://zaw-nantes.com
X-WR-CALDESC:Évènements pour Zaw
REFRESH-INTERVAL;VALUE=DURATION:PT1H
X-Robots-Tag:noindex
X-PUBLISHED-TTL:PT1H
BEGIN:VTIMEZONE
TZID:Europe/Paris
BEGIN:DAYLIGHT
TZOFFSETFROM:+0100
TZOFFSETTO:+0200
TZNAME:CEST
DTSTART:20250330T010000
END:DAYLIGHT
BEGIN:STANDARD
TZOFFSETFROM:+0200
TZOFFSETTO:+0100
TZNAME:CET
DTSTART:20251026T010000
END:STANDARD
END:VTIMEZONE
BEGIN:VEVENT
DTSTART;TZID=Europe/Paris:20250419T140000
DTEND;TZID=Europe/Paris:20250419T153000
DTSTAMP:20260424T052031
CREATED:20250325T111428Z
LAST-MODIFIED:20250325T111428Z
UID:10000066-1745071200-1745076600@zaw-nantes.com
SUMMARY:Atelier : Création de boucles d'oreilles en fleurs stabilisées
DESCRIPTION:Atelier boucles d’oreilles en fleurs stabilisées à Nantes – Une création unique et élégante ! \nApportez une touche florale à vos bijoux ! Rejoignez notre atelier de création de boucles d’oreilles en fleurs stabilisées à Nantes et apprenez à réaliser des accessoires uniques et durables dans une ambiance conviviale. \nPourquoi Participer ? \n\nApprentissage guidé par des experts : Découvrez les techniques pour travailler les fleurs stabilisées\, leur donner une seconde vie et les transformer en bijoux raffinés.\nCréation personnalisée : Repartez avec une paire de boucles d’oreilles élégantes et uniques\, conçue selon votre style.\nTout inclus : Matériel fourni : acier inoxydable hypoallergénique et fleurs stabilisées. Aucune expérience préalable requise !\n\nInformations Pratiques \n\nMatériel fourni : Base en acier inoxydable\, fleurs stabilisées et outils.\nRéservation : ici\n14h-15h30\n\n  \nCréez des boucles d’oreilles en fleurs stabilisées originales et laissez libre cours à votre créativité dans un cadre chaleureux et inspirant. \n\nPar L’atelier d’Ondine 
URL:https://zaw-nantes.com/evenement/atelier-creation-de-boucles-doreilles-en-fleurs-stabilisees/
CATEGORIES:Atelier
ATTACH;FMTTYPE=image/jpeg:https://zaw-nantes.com/wp-content/uploads/2025/03/16815913-boulces-3.jpg
END:VEVENT
END:VCALENDAR