BEGIN:VCALENDAR
VERSION:2.0
PRODID:-//Zaw - ECPv6.9.0//NONSGML v1.0//EN
CALSCALE:GREGORIAN
METHOD:PUBLISH
X-ORIGINAL-URL:https://zaw-nantes.com
X-WR-CALDESC:Évènements pour Zaw
REFRESH-INTERVAL;VALUE=DURATION:PT1H
X-Robots-Tag:noindex
X-PUBLISHED-TTL:PT1H
BEGIN:VTIMEZONE
TZID:Europe/Paris
BEGIN:DAYLIGHT
TZOFFSETFROM:+0100
TZOFFSETTO:+0200
TZNAME:CEST
DTSTART:20250330T010000
END:DAYLIGHT
BEGIN:STANDARD
TZOFFSETFROM:+0200
TZOFFSETTO:+0100
TZNAME:CET
DTSTART:20251026T010000
END:STANDARD
END:VTIMEZONE
BEGIN:VEVENT
DTSTART;TZID=Europe/Paris:20250215T170000
DTEND;TZID=Europe/Paris:20250215T183000
DTSTAMP:20260424T072529
CREATED:20250131T121853Z
LAST-MODIFIED:20250131T121853Z
UID:10000049-1739638800-1739644200@zaw-nantes.com
SUMMARY:Conférence/Atelier avec Berthe et Rosa
DESCRIPTION:« Berthe et Rosa » vous propose une conférence-atelier sur le thème de Gustave Klimt. \nAprès une présentation de l’artiste ludique et participative\, vous pourrez vous inspirer de son travail pour créer un collage personnalisé sur le thème de l’amour ! \nPour tous niveaux\, idéal pour les débutants.\nLe matériel est fourni\, venez les mains dans les poches !\n(Les consommations ne sont pas comprises dans le prix de l’atelier). \nAtelier limité à 10 places. \n✉️ Lien de réservation   \n  \nhttps://www.instagram.com/berthe_et_rosa/ \nLe samedi 15 février 2025 à 17h (durée 1 h 30 environ). \nZaw Nantes – Mezzanine de la Gare de Nantes – Entrée gare nord
URL:https://zaw-nantes.com/evenement/conference-atelier-avec-berthe-et-rosa/
CATEGORIES:Atelier
ATTACH;FMTTYPE=image/png:https://zaw-nantes.com/wp-content/uploads/2025/01/berthe-et-rosa-1.png
END:VEVENT
BEGIN:VEVENT
DTSTART;TZID=Europe/Paris:20250218T173000
DTEND;TZID=Europe/Paris:20250218T200000
DTSTAMP:20260424T072529
CREATED:20250207T123652Z
LAST-MODIFIED:20250207T123652Z
UID:10000050-1739899800-1739908800@zaw-nantes.com
SUMMARY:Conférence-atelier "confiance en soi" by Jen
DESCRIPTION:Mardi 18 Fevrier\, conférence-atelier « confiance en soi » by Jen ! \n\nOse avancer : libère-toi de ce qui te freine  \nVous sentez que quelque chose vous retient dans votre vie ? Que ce soit dans votre travail\, vos relations ou vos projets\, vous avez l’impression d’être bloquée\, de tourner en rond ?\n\nIl est temps de changer ça ! \n🎟️ Événement 100% gratuit – Places limitées ! \nAu programme :\n✅ Comprendre les blocages invisibles qui vous empêchent d’avancer\n✅ Découvrir des outils concrets pour oser le changement\n✅ Repartir avec un boost d’énergie et de clarté \nUne soirée pour celles qui veulent OSER une nouvelle vie\, avec plus de liberté et d’épanouissement. \n💬 Inscription gratuite ici \nAnimée par Jen BOLD\, auteure et thérapeute \n\n 
URL:https://zaw-nantes.com/evenement/conference-atelier-confiance-en-soi-by-jen-2/
CATEGORIES:Atelier
ATTACH;FMTTYPE=image/png:https://zaw-nantes.com/wp-content/uploads/2025/02/jen.png
END:VEVENT
END:VCALENDAR