BEGIN:VCALENDAR
VERSION:2.0
PRODID:-//Zaw - ECPv6.9.0//NONSGML v1.0//EN
CALSCALE:GREGORIAN
METHOD:PUBLISH
X-WR-CALNAME:Zaw
X-ORIGINAL-URL:https://zaw-nantes.com
X-WR-CALDESC:Évènements pour Zaw
REFRESH-INTERVAL;VALUE=DURATION:PT1H
X-Robots-Tag:noindex
X-PUBLISHED-TTL:PT1H
BEGIN:VTIMEZONE
TZID:Europe/Paris
BEGIN:DAYLIGHT
TZOFFSETFROM:+0100
TZOFFSETTO:+0200
TZNAME:CEST
DTSTART:20260329T010000
END:DAYLIGHT
BEGIN:STANDARD
TZOFFSETFROM:+0200
TZOFFSETTO:+0100
TZNAME:CET
DTSTART:20261025T010000
END:STANDARD
END:VTIMEZONE
BEGIN:VEVENT
DTSTART;TZID=Europe/Paris:20260425T190000
DTEND;TZID=Europe/Paris:20260426T020000
DTSTAMP:20260426T015842
CREATED:20260408T101944Z
LAST-MODIFIED:20260408T102330Z
UID:10000150-1777143600-1777168800@zaw-nantes.com
SUMMARY:Dox'art Flo Masse Zarbi & Ultimatom
DESCRIPTION:Le Dox’art s’invite au Zaw à Nantes le temps d’une soirée. \nC’est une grande joie pour le collectif d’accueillir une artiste hors du commun : la talentueuse Flo Massé.Cette date fait figure d’avant-première\, puisqu’elle viendra également jouer au Dox’art Festival cette année. Révélation marquante des Trans Musicales\, où elle a mis tout le monde d’accord avec un set percutant\, elle s’impose comme l’une des artistes à suivre de très près. \nChacun de ses sets 100 % vinyles est une performance unique\, mêlant finesse\, groove et puissance. Une artiste à ne pas manquer\, qui apportera sa touche singulière à cette nuit déjà bien prometteuse. \nPour l’accompagner\, deux artistes incontournables du collectif Dox’art : Ultimatom et Zarbi. Connus pour leurs sets énergiques et leur capacité à embarquer le public dans un voyage sonore intense et sans compromis\, ils sauront créer une atmosphère électrique du début à la fin. \n🎶 Au programme : du son\, de l’énergie et une ambiance immersive jusqu’au bout de la nuit. \n🎟️ Entrée : \n• 8 € en early \n• 10 € en tarif régulier \nPrépare-toi à danser\, transpirer et vivre une soirée mémorable dans ce magnifique lieu qu’est le Zaw. \nLien vers Shotgun : Billets Shotgun Dox’art
URL:https://zaw-nantes.com/evenement/doxart-flo-masse-zarbi-ultimatom/
CATEGORIES:DJ set
ATTACH;FMTTYPE=image/png:https://zaw-nantes.com/wp-content/uploads/2026/04/Capture-decran-2026-04-08-121604-e1775643578942.png
END:VEVENT
BEGIN:VEVENT
DTSTART;TZID=Europe/Paris:20260426T113000
DTEND;TZID=Europe/Paris:20260426T153000
DTSTAMP:20260426T015842
CREATED:20250826T130143Z
LAST-MODIFIED:20260326T125346Z
UID:10000108-1777203000-1777217400@zaw-nantes.com
SUMMARY:Jazz Brunch avec Basile & Vincent en live
DESCRIPTION:🎷 Les Jazz Brunchs du dimanche chez Zaw\, c’est un tout nouveau concept dans lequel on vous propose un brunch à volonté tout en assistant à un concert live. Un moment convivial entre ami.es ou en famille\, dans une atmosphère jazzy et chaleureuse. \nNous vous proposons de venir déjeuner tout en assistant au live de Basile & Vincent. \nLE LIVE : Basile et Vincent est un duo de guitare Jazz. Rencontrés en 2021 au conservatoire de Nantes\, ces deux amis vous interpréteront leurs standards de jazz favoris\, parmi lesquels ballades et morceaux plus dansants trouveront leurs places. \n  \n \nINFO & RÉSA : \nRéserver ici \nTarifs :\n➟  Formule brunch à volonté + concert (-12 ans) : 16€\n➟  Formule brunch à volonté + concert : 32€ \n🍽️ Deux services pour le brunch :\n➛  11h30\n➛  13h30 \nVeillez à arriver tôt afin de profiter du concert pleinement ! \nZaw et son jardin d’hiver\, en mezzanine de la gare de Nantes. \n27 Bd de Stalingrad Entrée Nord\, 44000 Nantes. 02 53 35 38 80
URL:https://zaw-nantes.com/evenement/jazz-brunch-avec-basile-vincent-en-live-2/
CATEGORIES:Jazz Brunch
ATTACH;FMTTYPE=image/png:https://zaw-nantes.com/wp-content/uploads/2025/03/basile.png
END:VEVENT
END:VCALENDAR