BEGIN:VCALENDAR
VERSION:2.0
PRODID:-//Zaw - ECPv6.9.0//NONSGML v1.0//EN
CALSCALE:GREGORIAN
METHOD:PUBLISH
X-WR-CALNAME:Zaw
X-ORIGINAL-URL:https://zaw-nantes.com
X-WR-CALDESC:Évènements pour Zaw
REFRESH-INTERVAL;VALUE=DURATION:PT1H
X-Robots-Tag:noindex
X-PUBLISHED-TTL:PT1H
BEGIN:VTIMEZONE
TZID:Europe/Paris
BEGIN:DAYLIGHT
TZOFFSETFROM:+0100
TZOFFSETTO:+0200
TZNAME:CEST
DTSTART:20260329T010000
END:DAYLIGHT
BEGIN:STANDARD
TZOFFSETFROM:+0200
TZOFFSETTO:+0100
TZNAME:CET
DTSTART:20261025T010000
END:STANDARD
END:VTIMEZONE
BEGIN:VEVENT
DTSTART;TZID=Europe/Paris:20260424T190000
DTEND;TZID=Europe/Paris:20260424T230000
DTSTAMP:20260424T013850
CREATED:20260320T104033Z
LAST-MODIFIED:20260320T134927Z
UID:10000145-1777057200-1777071600@zaw-nantes.com
SUMMARY:Concert avec Jef Guillon
DESCRIPTION:Jef Guillon compose une musique électronique vivante façonnée en temps réel à partir de synthétiseurs modulaires. \nSa techno développe une dimension narrative où nappes atmosphériques\, pulsations profondes et textures fragiles se déploient comme la bande originale d’un film imaginaire\, jouant sur les contrastes entre tension et douceur. \nSur scène\, la musique devient mouvement : les rythmes et les vibrations traversent le corps de l’artiste\, qui ondule et accompagne les sons comme une pulsation incarnée. Ses performances laissent apparaître une musique à la fois physique et sensible\, où puissance et fragilité cohabitent dans un équilibre toujours mouvant. \nAuteur des albums Errare et Phonokind\, il poursuit une recherche sonore attentive au mouvement\, à l’émotion et à la transformation. \nParallèlement à son travail de scène\, il enseigne la musique et compose des univers sonores pour des marques et des institutions.
URL:https://zaw-nantes.com/evenement/concert-avec-jef-guillon/
CATEGORIES:DJ set
ATTACH;FMTTYPE=image/jpeg:https://zaw-nantes.com/wp-content/uploads/2026/03/FHD-paysageJef-Guillon-credit-photo-Philippe-Cibille-e1774003224380.jpg
END:VEVENT
END:VCALENDAR